BEGIN:VCALENDAR
VERSION:2.0
PRODID:-//Grace Lutheran Church - De Soto, MO - ECPv6.15.20//NONSGML v1.0//EN
CALSCALE:GREGORIAN
METHOD:PUBLISH
X-WR-CALNAME:Grace Lutheran Church - De Soto, MO
X-ORIGINAL-URL:https://glcdesoto.org
X-WR-CALDESC:Events for Grace Lutheran Church - De Soto, MO
REFRESH-INTERVAL;VALUE=DURATION:PT1H
X-Robots-Tag:noindex
X-PUBLISHED-TTL:PT1H
BEGIN:VTIMEZONE
TZID:America/Chicago
BEGIN:DAYLIGHT
TZOFFSETFROM:-0600
TZOFFSETTO:-0500
TZNAME:CDT
DTSTART:20230312T080000
END:DAYLIGHT
BEGIN:STANDARD
TZOFFSETFROM:-0500
TZOFFSETTO:-0600
TZNAME:CST
DTSTART:20231105T070000
END:STANDARD
BEGIN:DAYLIGHT
TZOFFSETFROM:-0600
TZOFFSETTO:-0500
TZNAME:CDT
DTSTART:20240310T080000
END:DAYLIGHT
BEGIN:STANDARD
TZOFFSETFROM:-0500
TZOFFSETTO:-0600
TZNAME:CST
DTSTART:20241103T070000
END:STANDARD
BEGIN:DAYLIGHT
TZOFFSETFROM:-0600
TZOFFSETTO:-0500
TZNAME:CDT
DTSTART:20250309T080000
END:DAYLIGHT
BEGIN:STANDARD
TZOFFSETFROM:-0500
TZOFFSETTO:-0600
TZNAME:CST
DTSTART:20251102T070000
END:STANDARD
BEGIN:DAYLIGHT
TZOFFSETFROM:-0600
TZOFFSETTO:-0500
TZNAME:CDT
DTSTART:20260308T080000
END:DAYLIGHT
BEGIN:STANDARD
TZOFFSETFROM:-0500
TZOFFSETTO:-0600
TZNAME:CST
DTSTART:20261101T070000
END:STANDARD
BEGIN:DAYLIGHT
TZOFFSETFROM:-0600
TZOFFSETTO:-0500
TZNAME:CDT
DTSTART:20270314T080000
END:DAYLIGHT
BEGIN:STANDARD
TZOFFSETFROM:-0500
TZOFFSETTO:-0600
TZNAME:CST
DTSTART:20271107T070000
END:STANDARD
END:VTIMEZONE
BEGIN:VEVENT
DTSTART;TZID=America/Chicago:20260121T063000
DTEND;TZID=America/Chicago:20260121T193000
DTSTAMP:20260423T175137
CREATED:20260119T031754Z
LAST-MODIFIED:20260119T031754Z
UID:39615-1768977000-1769023800@glcdesoto.org
SUMMARY:January 2026 - Elder's meeting
DESCRIPTION:We will meet via Zoom and an agenda will be provided prior to the meeting.
URL:https://glcdesoto.org/event/january-2026-elders-meeting/
END:VEVENT
BEGIN:VEVENT
DTSTART;TZID=America/Chicago:20240518T090000
DTEND;TZID=America/Chicago:20240518T100000
DTSTAMP:20260423T175137
CREATED:20240504T153751Z
LAST-MODIFIED:20240518T144939Z
UID:3814-1716022800-1716026400@glcdesoto.org
SUMMARY:Church Grass - Steve Alexander
DESCRIPTION:
URL:https://glcdesoto.org/event/church-grass-tbd/
LOCATION:121 W Kelley St (121 W Kelley St\, De Soto\, Missouri 63020\, United States)
CATEGORIES:Church Calendar of Events
END:VEVENT
BEGIN:VEVENT
DTSTART;TZID=America/Chicago:20240512T104500
DTEND;TZID=America/Chicago:20240512T114500
DTSTAMP:20260423T175137
CREATED:20240504T153406Z
LAST-MODIFIED:20240512T162118Z
UID:3799-1715510700-1715514300@glcdesoto.org
SUMMARY:Divine Worship
DESCRIPTION:Pastor Tim Weiser
URL:https://glcdesoto.org/event/divine-worship-2/
LOCATION:121 W Kelley St\, De Soto\, Missouri 63020\, United States
CATEGORIES:Church Calendar of Events
END:VEVENT
BEGIN:VEVENT
DTSTART;TZID=America/Chicago:20240512T093000
DTEND;TZID=America/Chicago:20240512T103000
DTSTAMP:20260423T175137
CREATED:20240504T153406Z
LAST-MODIFIED:20240512T152119Z
UID:3798-1715506200-1715509800@glcdesoto.org
SUMMARY:Sunday School / Adult Bible Study 5/12
DESCRIPTION:Studying the book of Mark
URL:https://glcdesoto.org/event/sunday-school-adult-bible-study-5-12/
LOCATION:121 W Kelley St (121 W Kelley St\, De Soto\, Missouri 63020\, United States)
CATEGORIES:Church Calendar of Events
END:VEVENT
BEGIN:VEVENT
DTSTART;TZID=America/Chicago:20240511T090000
DTEND;TZID=America/Chicago:20240511T100000
DTSTAMP:20260423T175137
CREATED:20240504T153406Z
LAST-MODIFIED:20240511T143416Z
UID:3797-1715418000-1715421600@glcdesoto.org
SUMMARY:Church Grass - Mike 5/11
DESCRIPTION:
URL:https://glcdesoto.org/event/church-grass-mike-5-11/
LOCATION:121 W Kelley St (121 W Kelley St\, De Soto\, Missouri 63020\, United States)
CATEGORIES:Church Calendar of Events
END:VEVENT
BEGIN:VEVENT
DTSTART;TZID=America/Chicago:20240505T104500
DTEND;TZID=America/Chicago:20240505T114500
DTSTAMP:20260423T175137
CREATED:20240504T145648Z
LAST-MODIFIED:20240505T155304Z
UID:3782-1714905900-1714909500@glcdesoto.org
SUMMARY:Divine Worship
DESCRIPTION:Pastor Tim Weiser
URL:https://glcdesoto.org/event/divine-worship/
LOCATION:121 W Kelley St\, De Soto\, Missouri 63020\, United States
CATEGORIES:Church Calendar of Events
END:VEVENT
BEGIN:VEVENT
DTSTART;TZID=America/Chicago:20240505T093000
DTEND;TZID=America/Chicago:20240505T103000
DTSTAMP:20260423T175137
CREATED:20240504T145648Z
LAST-MODIFIED:20240505T151729Z
UID:3781-1714901400-1714905000@glcdesoto.org
SUMMARY:Sunday School / Adult Bible Study
DESCRIPTION:Studying the Book of Mark
URL:https://glcdesoto.org/event/sunday-school-adult-bible-study/
LOCATION:121 W Kelley St (121 W Kelley St\, De Soto\, Missouri 63020\, United States)
CATEGORIES:Church Calendar of Events
END:VEVENT
BEGIN:VEVENT
DTSTART;TZID=America/Chicago:20240504T090000
DTEND;TZID=America/Chicago:20240504T100000
DTSTAMP:20260423T175137
CREATED:20240504T145648Z
LAST-MODIFIED:20240504T145924Z
UID:3780-1714813200-1714816800@glcdesoto.org
SUMMARY:Church Grass - Neil and Sherri
DESCRIPTION:
URL:https://glcdesoto.org/event/church-grass-neil-and-sherri/
CATEGORIES:Church Calendar of Events
END:VEVENT
END:VCALENDAR